BEGIN:VCALENDAR
VERSION:2.0
PRODID:-//Saint James United Methodist Church - ECPv6.15.20//NONSGML v1.0//EN
CALSCALE:GREGORIAN
METHOD:PUBLISH
X-WR-CALNAME:Saint James United Methodist Church
X-ORIGINAL-URL:https://www.stjames-kingston.org
X-WR-CALDESC:Events for Saint James United Methodist Church
REFRESH-INTERVAL;VALUE=DURATION:PT1H
X-Robots-Tag:noindex
X-PUBLISHED-TTL:PT1H
BEGIN:VTIMEZONE
TZID:America/New_York
BEGIN:DAYLIGHT
TZOFFSETFROM:-0500
TZOFFSETTO:-0400
TZNAME:EDT
DTSTART:20220313T070000
END:DAYLIGHT
BEGIN:STANDARD
TZOFFSETFROM:-0400
TZOFFSETTO:-0500
TZNAME:EST
DTSTART:20221106T060000
END:STANDARD
BEGIN:DAYLIGHT
TZOFFSETFROM:-0500
TZOFFSETTO:-0400
TZNAME:EDT
DTSTART:20230312T070000
END:DAYLIGHT
BEGIN:STANDARD
TZOFFSETFROM:-0400
TZOFFSETTO:-0500
TZNAME:EST
DTSTART:20231105T060000
END:STANDARD
BEGIN:DAYLIGHT
TZOFFSETFROM:-0500
TZOFFSETTO:-0400
TZNAME:EDT
DTSTART:20240310T070000
END:DAYLIGHT
BEGIN:STANDARD
TZOFFSETFROM:-0400
TZOFFSETTO:-0500
TZNAME:EST
DTSTART:20241103T060000
END:STANDARD
END:VTIMEZONE
BEGIN:VEVENT
DTSTART;TZID=America/New_York:20231205T190000
DTEND;TZID=America/New_York:20231205T200000
DTSTAMP:20260423T141116
CREATED:20230828T140915Z
LAST-MODIFIED:20230828T140915Z
UID:7486-1701802800-1701806400@www.stjames-kingston.org
SUMMARY:Healing Worship
DESCRIPTION:
URL:https://www.stjames-kingston.org/event/healing-worship-4/
LOCATION:Sanctuary\, 35 Pearl Street\, Kingston\, NY\, 12401\, United States
CATEGORIES:Worship
END:VEVENT
BEGIN:VEVENT
DTSTART;TZID=America/New_York:20231101T190000
DTEND;TZID=America/New_York:20231101T200000
DTSTAMP:20260423T141116
CREATED:20230828T140726Z
LAST-MODIFIED:20230828T140726Z
UID:7484-1698865200-1698868800@www.stjames-kingston.org
SUMMARY:Healing Worship
DESCRIPTION:
URL:https://www.stjames-kingston.org/event/healing-worship-3/
LOCATION:Sanctuary\, 35 Pearl Street\, Kingston\, NY\, 12401\, United States
CATEGORIES:Worship
END:VEVENT
BEGIN:VEVENT
DTSTART;TZID=America/New_York:20231003T190000
DTEND;TZID=America/New_York:20231003T200000
DTSTAMP:20260423T141116
CREATED:20230828T140532Z
LAST-MODIFIED:20230828T140532Z
UID:7482-1696359600-1696363200@www.stjames-kingston.org
SUMMARY:Healing Worship
DESCRIPTION:
URL:https://www.stjames-kingston.org/event/healing-worship-2/
LOCATION:Sanctuary\, 35 Pearl Street\, Kingston\, NY\, 12401\, United States
CATEGORIES:Worship
END:VEVENT
BEGIN:VEVENT
DTSTART;TZID=America/New_York:20230905T190000
DTEND;TZID=America/New_York:20230905T200000
DTSTAMP:20260423T141116
CREATED:20230828T134859Z
LAST-MODIFIED:20230828T135618Z
UID:7479-1693940400-1693944000@www.stjames-kingston.org
SUMMARY:Healing Worship
DESCRIPTION:All are welcome to this beautiful healing worship\, held the first Tuesday of each month at St. James at 7 pm.  Pray for healing for yourself or others\, share in a moving message\, music and if desired\, anointing with oil.
URL:https://www.stjames-kingston.org/event/healing-worship/
LOCATION:Sanctuary\, 35 Pearl Street\, Kingston\, NY\, 12401\, United States
CATEGORIES:Worship
END:VEVENT
BEGIN:VEVENT
DTSTART;TZID=America/New_York:20230430T100000
DTEND;TZID=America/New_York:20230430T110000
DTSTAMP:20260423T141116
CREATED:20230425T171600Z
LAST-MODIFIED:20230425T182652Z
UID:7457-1682848800-1682852400@www.stjames-kingston.org
SUMMARY:Worship
DESCRIPTION:10:00 am worship
URL:https://www.stjames-kingston.org/event/worship/
LOCATION:Sanctuary\, 35 Pearl Street\, Kingston\, NY\, 12401\, United States
CATEGORIES:Worship
END:VEVENT
END:VCALENDAR